BEGIN:VCALENDAR
VERSION:2.0
PRODID:-//ParadisScol&#039;Eyre - ECPv6.15.20//NONSGML v1.0//EN
CALSCALE:GREGORIAN
METHOD:PUBLISH
X-WR-CALNAME:ParadisScol&#039;Eyre
X-ORIGINAL-URL:https://paradisscoleyre.fr
X-WR-CALDESC:Évènements pour ParadisScol&#039;Eyre
REFRESH-INTERVAL;VALUE=DURATION:PT1H
X-Robots-Tag:noindex
X-PUBLISHED-TTL:PT1H
BEGIN:VTIMEZONE
TZID:Europe/Paris
BEGIN:DAYLIGHT
TZOFFSETFROM:+0100
TZOFFSETTO:+0200
TZNAME:CEST
DTSTART:20250330T010000
END:DAYLIGHT
BEGIN:STANDARD
TZOFFSETFROM:+0200
TZOFFSETTO:+0100
TZNAME:CET
DTSTART:20251026T010000
END:STANDARD
BEGIN:DAYLIGHT
TZOFFSETFROM:+0100
TZOFFSETTO:+0200
TZNAME:CEST
DTSTART:20260329T010000
END:DAYLIGHT
BEGIN:STANDARD
TZOFFSETFROM:+0200
TZOFFSETTO:+0100
TZNAME:CET
DTSTART:20261025T010000
END:STANDARD
BEGIN:DAYLIGHT
TZOFFSETFROM:+0100
TZOFFSETTO:+0200
TZNAME:CEST
DTSTART:20270328T010000
END:DAYLIGHT
BEGIN:STANDARD
TZOFFSETFROM:+0200
TZOFFSETTO:+0100
TZNAME:CET
DTSTART:20271031T010000
END:STANDARD
END:VTIMEZONE
BEGIN:VEVENT
DTSTART;TZID=Europe/Paris:20260423T120000
DTEND;TZID=Europe/Paris:20260423T130000
DTSTAMP:20260423T015402
CREATED:20251004T102131Z
LAST-MODIFIED:20260421T090504Z
UID:1602-1776945600-1776949200@paradisscoleyre.fr
SUMMARY:Visite de la cantine de Michel Ballion
DESCRIPTION:
URL:https://paradisscoleyre.fr/event/visite-de-la-cantine-de-michel-ballion-3/
LOCATION:Ecole Michel Ballion
CATEGORIES:Visite des restaurations scolaires
END:VEVENT
BEGIN:VEVENT
DTSTART;TZID=Europe/Paris:20260423T160000
DTEND;TZID=Europe/Paris:20260423T170000
DTSTAMP:20260423T015402
CREATED:20260422T210032Z
LAST-MODIFIED:20260422T210032Z
UID:1742-1776960000-1776963600@paradisscoleyre.fr
SUMMARY:Vente de cookies maison cette semaine au profit de la coopérative scolaire de Lou Pin Bert 🍪
DESCRIPTION:Horaire : À partir de 16h00 \nLieu : À l’entrée de l’école maternelle Lou Pin Bert\nTarifs : 1 cookie pour 1 € / 3 cookies pour 2\,50 €
URL:https://paradisscoleyre.fr/event/vente-de-cookies-maison-cette-semaine-au-profit-de-la-cooperative-scolaire-de-lou-pin-bert-%f0%9f%8d%aa/
LOCATION:Groupe scolaire Lou Pin Bert
END:VEVENT
END:VCALENDAR